BEGIN:VCALENDAR
VERSION:2.0
PRODID:-//Bay Area Flash Mob - ECPv6.15.1.1//NONSGML v1.0//EN
CALSCALE:GREGORIAN
METHOD:PUBLISH
X-WR-CALNAME:Bay Area Flash Mob
X-ORIGINAL-URL:https://www.bayareaflashmob.com
X-WR-CALDESC:Events for Bay Area Flash Mob
REFRESH-INTERVAL;VALUE=DURATION:PT1H
X-Robots-Tag:noindex
X-PUBLISHED-TTL:PT1H
BEGIN:VTIMEZONE
TZID:America/Los_Angeles
BEGIN:DAYLIGHT
TZOFFSETFROM:-0800
TZOFFSETTO:-0700
TZNAME:PDT
DTSTART:20180311T100000
END:DAYLIGHT
BEGIN:STANDARD
TZOFFSETFROM:-0700
TZOFFSETTO:-0800
TZNAME:PST
DTSTART:20181104T090000
END:STANDARD
END:VTIMEZONE
BEGIN:VEVENT
DTSTART;TZID=America/Los_Angeles:20180905T200000
DTEND;TZID=America/Los_Angeles:20180905T213000
DTSTAMP:20260423T151154
CREATED:20180731T070818Z
LAST-MODIFIED:20180731T070818Z
UID:16199-1536177600-1536183000@www.bayareaflashmob.com
SUMMARY:Britney vs. Christina flash mob class
DESCRIPTION:
URL:https://www.bayareaflashmob.com/event/britney-vs-christina-flash-mob-class-4/
CATEGORIES:class
END:VEVENT
BEGIN:VEVENT
DTSTART;TZID=America/Los_Angeles:20180829T200000
DTEND;TZID=America/Los_Angeles:20180829T213000
DTSTAMP:20260423T151154
CREATED:20180731T070000Z
LAST-MODIFIED:20180731T070139Z
UID:16196-1535572800-1535578200@www.bayareaflashmob.com
SUMMARY:Britney vs. Christina flash mob class
DESCRIPTION:
URL:https://www.bayareaflashmob.com/event/britney-vs-christina-flash-mob-class-3/
CATEGORIES:class
END:VEVENT
BEGIN:VEVENT
DTSTART;TZID=America/Los_Angeles:20180822T200000
DTEND;TZID=America/Los_Angeles:20180822T213000
DTSTAMP:20260423T151154
CREATED:20180731T065706Z
LAST-MODIFIED:20180731T065706Z
UID:16194-1534968000-1534973400@www.bayareaflashmob.com
SUMMARY:Britney vs. Christina flash mob class
DESCRIPTION:
URL:https://www.bayareaflashmob.com/event/britney-vs-christina-flash-mob-class-2/
CATEGORIES:class
END:VEVENT
BEGIN:VEVENT
DTSTART;TZID=America/Los_Angeles:20180725T200000
DTEND;TZID=America/Los_Angeles:20180725T213000
DTSTAMP:20260423T151154
CREATED:20180601T070401Z
LAST-MODIFIED:20180601T070401Z
UID:16149-1532548800-1532554200@www.bayareaflashmob.com
SUMMARY:Missy 2 Flash Mob class-- LAST CLASS! REVIEW!
DESCRIPTION:LAST CLASS! \nListen up everyone! We have been just informed\nThat there’s an unknown virus that’s attacking all clubs\nSymptoms have been said to be\, heaving breathing\nWild dancing……
URL:https://www.bayareaflashmob.com/event/missy-2-flash-mob-class-last-class-review/
LOCATION:Levy Studio\, 19 Heron St\, San Francisco\, CA\, United States
CATEGORIES:class
END:VEVENT
BEGIN:VEVENT
DTSTART;TZID=America/Los_Angeles:20180718T200000
DTEND;TZID=America/Los_Angeles:20180718T213000
DTSTAMP:20260423T151154
CREATED:20180601T065747Z
LAST-MODIFIED:20180601T065747Z
UID:16147-1531944000-1531949400@www.bayareaflashmob.com
SUMMARY:Missy 2 Flash Mob class
DESCRIPTION:Click on Missy 2 get class info
URL:https://www.bayareaflashmob.com/event/missy-2-flash-mob-class-6/
LOCATION:Levy Studio\, 19 Heron St\, San Francisco\, CA\, United States
CATEGORIES:class
END:VEVENT
BEGIN:VEVENT
DTSTART;TZID=America/Los_Angeles:20180711T200000
DTEND;TZID=America/Los_Angeles:20180711T213000
DTSTAMP:20260423T151154
CREATED:20180601T065529Z
LAST-MODIFIED:20180601T065529Z
UID:16145-1531339200-1531344600@www.bayareaflashmob.com
SUMMARY:Missy 2 Flash Mob class
DESCRIPTION:Click on Missy 2 get class info
URL:https://www.bayareaflashmob.com/event/missy-2-flash-mob-class-5/
LOCATION:Levy Studio\, 19 Heron St\, San Francisco\, CA\, United States
CATEGORIES:class
END:VEVENT
BEGIN:VEVENT
DTSTART;VALUE=DATE:20180704
DTEND;VALUE=DATE:20180705
DTSTAMP:20260423T151154
CREATED:20180601T074724Z
LAST-MODIFIED:20180601T074724Z
UID:16153-1530662400-1530748799@www.bayareaflashmob.com
SUMMARY:No class! (Take a break and go watch fireworks (if it's not foggy))
DESCRIPTION:https://gfycat.com/WhichMadBufeo
URL:https://www.bayareaflashmob.com/event/no-class-take-a-break-and-go-watch-fireworks-if-its-not-foggy/
CATEGORIES:class
END:VEVENT
BEGIN:VEVENT
DTSTART;TZID=America/Los_Angeles:20180627T200000
DTEND;TZID=America/Los_Angeles:20180627T213000
DTSTAMP:20260423T151154
CREATED:20180601T063051Z
LAST-MODIFIED:20180601T063051Z
UID:16143-1530129600-1530135000@www.bayareaflashmob.com
SUMMARY:Missy 2 Flash Mob class
DESCRIPTION:Click on Missy 2 get class info
URL:https://www.bayareaflashmob.com/event/missy-2-flash-mob-class-4/
LOCATION:Levy Studio\, 19 Heron St\, San Francisco\, CA\, United States
CATEGORIES:class
END:VEVENT
BEGIN:VEVENT
DTSTART;TZID=America/Los_Angeles:20180620T200000
DTEND;TZID=America/Los_Angeles:20180620T213000
DTSTAMP:20260423T151154
CREATED:20180601T062759Z
LAST-MODIFIED:20180601T062821Z
UID:16140-1529524800-1529530200@www.bayareaflashmob.com
SUMMARY:Missy 2 Flash Mob class
DESCRIPTION:Click on Missy 2 get class info
URL:https://www.bayareaflashmob.com/event/missy-2-flash-mob-class-3/
LOCATION:Levy Studio\, 19 Heron St\, San Francisco\, CA\, United States
CATEGORIES:class
END:VEVENT
BEGIN:VEVENT
DTSTART;TZID=America/Los_Angeles:20180613T200000
DTEND;TZID=America/Los_Angeles:20180613T213000
DTSTAMP:20260423T151154
CREATED:20180601T062351Z
LAST-MODIFIED:20180601T062513Z
UID:16138-1528920000-1528925400@www.bayareaflashmob.com
SUMMARY:Missy 2 Flash Mob class
DESCRIPTION:Click on Missy 2 get the class info
URL:https://www.bayareaflashmob.com/event/missy-2-flash-mob-class-2/
LOCATION:Levy Studio\, 19 Heron St\, San Francisco\, CA\, United States
CATEGORIES:class
END:VEVENT
BEGIN:VEVENT
DTSTART;TZID=America/Los_Angeles:20180606T200000
DTEND;TZID=America/Los_Angeles:20180606T213000
DTSTAMP:20260423T151154
CREATED:20180519T091114Z
LAST-MODIFIED:20180519T091429Z
UID:16110-1528315200-1528320600@www.bayareaflashmob.com
SUMMARY:Missy 2 flash mob class
DESCRIPTION:
URL:https://www.bayareaflashmob.com/event/missy-2-flash-mob-class/
LOCATION:Levy Studio\, 19 Heron St\, San Francisco\, CA\, United States
CATEGORIES:class
END:VEVENT
BEGIN:VEVENT
DTSTART;TZID=America/Los_Angeles:20180516T200000
DTEND;TZID=America/Los_Angeles:20180516T213000
DTSTAMP:20260423T151154
CREATED:20180313T075508Z
LAST-MODIFIED:20180313T075508Z
UID:16071-1526500800-1526506200@www.bayareaflashmob.com
SUMMARY:New Edition Legacy Flash Mob Class
DESCRIPTION:
URL:https://www.bayareaflashmob.com/event/new-edition-legacy-flash-mob-class-6/
CATEGORIES:class
END:VEVENT
BEGIN:VEVENT
DTSTART;TZID=America/Los_Angeles:20180509T200000
DTEND;TZID=America/Los_Angeles:20180509T213000
DTSTAMP:20260423T151154
CREATED:20180313T075310Z
LAST-MODIFIED:20180313T075310Z
UID:16069-1525896000-1525901400@www.bayareaflashmob.com
SUMMARY:New Edition Legacy Flash Mob Class
DESCRIPTION:
URL:https://www.bayareaflashmob.com/event/new-edition-legacy-flash-mob-class-5/
CATEGORIES:class
END:VEVENT
BEGIN:VEVENT
DTSTART;TZID=America/Los_Angeles:20180502T200000
DTEND;TZID=America/Los_Angeles:20180502T213000
DTSTAMP:20260423T151154
CREATED:20180313T075124Z
LAST-MODIFIED:20180313T075124Z
UID:16067-1525291200-1525296600@www.bayareaflashmob.com
SUMMARY:New Edition Legacy Flash Mob Class
DESCRIPTION:
URL:https://www.bayareaflashmob.com/event/new-edition-legacy-flash-mob-class-4/
CATEGORIES:class
END:VEVENT
BEGIN:VEVENT
DTSTART;TZID=America/Los_Angeles:20180425T200000
DTEND;TZID=America/Los_Angeles:20180425T213000
DTSTAMP:20260423T151154
CREATED:20180313T074645Z
LAST-MODIFIED:20180313T074645Z
UID:16065-1524686400-1524691800@www.bayareaflashmob.com
SUMMARY:New Edition Legacy Flash Mob Class
DESCRIPTION:
URL:https://www.bayareaflashmob.com/event/new-edition-legacy-flash-mob-class-3/
CATEGORIES:class
END:VEVENT
BEGIN:VEVENT
DTSTART;TZID=America/Los_Angeles:20180418T200000
DTEND;TZID=America/Los_Angeles:20180418T213000
DTSTAMP:20260423T151154
CREATED:20180313T074531Z
LAST-MODIFIED:20180313T074531Z
UID:16063-1524081600-1524087000@www.bayareaflashmob.com
SUMMARY:New Edition Legacy Flash Mob Class
DESCRIPTION:
URL:https://www.bayareaflashmob.com/event/new-edition-legacy-flash-mob-class-2/
CATEGORIES:class
END:VEVENT
BEGIN:VEVENT
DTSTART;TZID=America/Los_Angeles:20180411T200000
DTEND;TZID=America/Los_Angeles:20180411T213000
DTSTAMP:20260423T151154
CREATED:20180313T074345Z
LAST-MODIFIED:20180313T074345Z
UID:16061-1523476800-1523482200@www.bayareaflashmob.com
SUMMARY:New Edition Legacy Flash Mob Class
DESCRIPTION:
URL:https://www.bayareaflashmob.com/event/new-edition-legacy-flash-mob-class/
CATEGORIES:class
END:VEVENT
BEGIN:VEVENT
DTSTART;TZID=America/Los_Angeles:20180404T200000
DTEND;TZID=America/Los_Angeles:20180404T213000
DTSTAMP:20260423T151154
CREATED:20180313T074212Z
LAST-MODIFIED:20180313T080258Z
UID:16059-1522872000-1522877400@www.bayareaflashmob.com
SUMMARY:New Edition Legacy Flash Mob Class
DESCRIPTION:
URL:https://www.bayareaflashmob.com/event/new-edition-legacy-flash-mob-class-7/
CATEGORIES:class
END:VEVENT
BEGIN:VEVENT
DTSTART;TZID=America/Los_Angeles:20180228T200000
DTEND;TZID=America/Los_Angeles:20180228T213000
DTSTAMP:20260423T151154
CREATED:20171211T040356Z
LAST-MODIFIED:20171211T040356Z
UID:15820-1519848000-1519853400@www.bayareaflashmob.com
SUMMARY:J. Lo Flash Mob class
DESCRIPTION:  \n \nClick on the image for more information \n 
URL:https://www.bayareaflashmob.com/event/j-lo-flash-mob-class-7/
CATEGORIES:class
END:VEVENT
BEGIN:VEVENT
DTSTART;TZID=America/Los_Angeles:20180225T150000
DTEND;TZID=America/Los_Angeles:20180225T170000
DTSTAMP:20260423T151154
CREATED:20180125T201227Z
LAST-MODIFIED:20180125T201254Z
UID:15994-1519570800-1519578000@www.bayareaflashmob.com
SUMMARY:Marry You performance class
DESCRIPTION:Last Class!
URL:https://www.bayareaflashmob.com/event/marry-you-performance-class-4/
CATEGORIES:class
END:VEVENT
BEGIN:VEVENT
DTSTART;TZID=America/Los_Angeles:20180221T200000
DTEND;TZID=America/Los_Angeles:20180221T213000
DTSTAMP:20260423T151154
CREATED:20171211T040159Z
LAST-MODIFIED:20171211T040224Z
UID:15818-1519243200-1519248600@www.bayareaflashmob.com
SUMMARY:J. Lo Flash Mob class
DESCRIPTION:Click on the image for more information
URL:https://www.bayareaflashmob.com/event/j-lo-flash-mob-class-6/
CATEGORIES:class
END:VEVENT
BEGIN:VEVENT
DTSTART;TZID=America/Los_Angeles:20180218T150000
DTEND;TZID=America/Los_Angeles:20180218T170000
DTSTAMP:20260423T151154
CREATED:20180125T201109Z
LAST-MODIFIED:20180125T201109Z
UID:15992-1518966000-1518973200@www.bayareaflashmob.com
SUMMARY:Marry You performance class-NO CLASS
DESCRIPTION:NO CLASS! Enjoy your weekend!
URL:https://www.bayareaflashmob.com/event/marry-you-performance-class-no-class/
LOCATION:In the Groove\, 580 14th St\, Oakland\, CA\, United States
CATEGORIES:class
END:VEVENT
BEGIN:VEVENT
DTSTART;TZID=America/Los_Angeles:20180211T150000
DTEND;TZID=America/Los_Angeles:20180211T170000
DTSTAMP:20260423T151154
CREATED:20180125T201000Z
LAST-MODIFIED:20180125T201000Z
UID:15990-1518361200-1518368400@www.bayareaflashmob.com
SUMMARY:Marry You performance class
DESCRIPTION:Click here for more info! Join us!
URL:https://www.bayareaflashmob.com/event/marry-you-performance-class-3/
LOCATION:In the Groove\, 580 14th St\, Oakland\, CA\, United States
CATEGORIES:class
END:VEVENT
BEGIN:VEVENT
DTSTART;TZID=America/Los_Angeles:20180207T200000
DTEND;TZID=America/Los_Angeles:20180207T213000
DTSTAMP:20260423T151154
CREATED:20171211T040038Z
LAST-MODIFIED:20171211T041603Z
UID:15816-1518033600-1518039000@www.bayareaflashmob.com
SUMMARY:J. Lo Flash Mob class
DESCRIPTION:Click on the image for more information
URL:https://www.bayareaflashmob.com/event/j-lo-flash-mob-class-5/
LOCATION:Levy Studio\, 19 Heron St\, San Francisco\, CA\, United States
CATEGORIES:class
END:VEVENT
BEGIN:VEVENT
DTSTART;TZID=America/Los_Angeles:20180204T150000
DTEND;TZID=America/Los_Angeles:20180204T170000
DTSTAMP:20260423T151154
CREATED:20180125T200824Z
LAST-MODIFIED:20180125T200824Z
UID:15988-1517756400-1517763600@www.bayareaflashmob.com
SUMMARY:Marry You performance class
DESCRIPTION:Click here for more info! It’s not too late to join us!
URL:https://www.bayareaflashmob.com/event/marry-you-performance-class-2/
LOCATION:In the Groove\, 580 14th St\, Oakland\, CA\, United States
CATEGORIES:class
END:VEVENT
BEGIN:VEVENT
DTSTART;TZID=America/Los_Angeles:20180131T200000
DTEND;TZID=America/Los_Angeles:20180131T213000
DTSTAMP:20260423T151154
CREATED:20171211T035628Z
LAST-MODIFIED:20171211T041132Z
UID:15814-1517428800-1517434200@www.bayareaflashmob.com
SUMMARY:J. Lo Flash Mob Class
DESCRIPTION:Click on the image for more information
URL:https://www.bayareaflashmob.com/event/j-lo-flash-mob-class-4/
LOCATION:Levy Studio\, 19 Heron St\, San Francisco\, CA\, United States
CATEGORIES:class
END:VEVENT
BEGIN:VEVENT
DTSTART;TZID=America/Los_Angeles:20180128T150000
DTEND;TZID=America/Los_Angeles:20180128T170000
DTSTAMP:20260423T151154
CREATED:20180125T200343Z
LAST-MODIFIED:20180125T200650Z
UID:15982-1517151600-1517158800@www.bayareaflashmob.com
SUMMARY:Marry You performance class
DESCRIPTION:$40/$42 series for 4 classes (2 hrs each!) Click here for more info!\n 
URL:https://www.bayareaflashmob.com/event/marry-you-performance-class/
LOCATION:In the Groove\, 580 14th St\, Oakland\, CA\, United States
CATEGORIES:class
END:VEVENT
BEGIN:VEVENT
DTSTART;TZID=America/Los_Angeles:20180124T200000
DTEND;TZID=America/Los_Angeles:20180124T213000
DTSTAMP:20260423T151154
CREATED:20171211T035423Z
LAST-MODIFIED:20171211T035423Z
UID:15812-1516824000-1516829400@www.bayareaflashmob.com
SUMMARY:J. Lo Flash Mob Class
DESCRIPTION:  \n\n \nClick on image for more information
URL:https://www.bayareaflashmob.com/event/j-lo-flash-mob-class-3/
LOCATION:Levy Studio\, 19 Heron St\, San Francisco\, CA\, United States
CATEGORIES:class
END:VEVENT
BEGIN:VEVENT
DTSTART;TZID=America/Los_Angeles:20180117T200000
DTEND;TZID=America/Los_Angeles:20180117T213000
DTSTAMP:20260423T151154
CREATED:20171211T034700Z
LAST-MODIFIED:20171211T041029Z
UID:15808-1516219200-1516224600@www.bayareaflashmob.com
SUMMARY:J. Lo Flash Mob Class
DESCRIPTION:click on the image for more information
URL:https://www.bayareaflashmob.com/event/j-lo-flash-mob-class-2/
LOCATION:Levy Studio\, 19 Heron St\, San Francisco\, CA\, United States
CATEGORIES:class
END:VEVENT
BEGIN:VEVENT
DTSTART;TZID=America/Los_Angeles:20180110T200000
DTEND;TZID=America/Los_Angeles:20180110T213000
DTSTAMP:20260423T151154
CREATED:20171211T034358Z
LAST-MODIFIED:20171211T040703Z
UID:15806-1515614400-1515619800@www.bayareaflashmob.com
SUMMARY:J. Lo Flash Mob Class
DESCRIPTION:click on the image for more information
URL:https://www.bayareaflashmob.com/event/j-lo-flash-mob-class/
LOCATION:Levy Studio\, 19 Heron St\, San Francisco\, CA\, United States
CATEGORIES:class
END:VEVENT
END:VCALENDAR