BEGIN:VCALENDAR
VERSION:2.0
PRODID:-//Bay Area Flash Mob - ECPv6.15.1.1//NONSGML v1.0//EN
CALSCALE:GREGORIAN
METHOD:PUBLISH
X-WR-CALNAME:Bay Area Flash Mob
X-ORIGINAL-URL:https://www.bayareaflashmob.com
X-WR-CALDESC:Events for Bay Area Flash Mob
REFRESH-INTERVAL;VALUE=DURATION:PT1H
X-Robots-Tag:noindex
X-PUBLISHED-TTL:PT1H
BEGIN:VTIMEZONE
TZID:America/Los_Angeles
BEGIN:DAYLIGHT
TZOFFSETFROM:-0800
TZOFFSETTO:-0700
TZNAME:PDT
DTSTART:20170312T100000
END:DAYLIGHT
BEGIN:STANDARD
TZOFFSETFROM:-0700
TZOFFSETTO:-0800
TZNAME:PST
DTSTART:20171105T090000
END:STANDARD
END:VTIMEZONE
BEGIN:VEVENT
DTSTART;TZID=America/Los_Angeles:20171208T200000
DTEND;TZID=America/Los_Angeles:20171208T213000
DTSTAMP:20260423T192426
CREATED:20171013T063244Z
LAST-MODIFIED:20171013T063244Z
UID:15697-1512763200-1512768600@www.bayareaflashmob.com
SUMMARY:BollyBhangra Hip Hop Flash Mob class
DESCRIPTION:NOTE DIFFERENT DAY AND DIFFERENT LOCATION!
URL:https://www.bayareaflashmob.com/event/bollybhangra-hip-hop-flash-mob-class-5/
LOCATION:Alonzo Lines King Ballet\, 26 7th St #5\,\, CA 94103\, San Francisco\, CA\, 94103\, United States
CATEGORIES:class
END:VEVENT
BEGIN:VEVENT
DTSTART;TZID=America/Los_Angeles:20171206T200000
DTEND;TZID=America/Los_Angeles:20171206T213000
DTSTAMP:20260423T192426
CREATED:20171013T062729Z
LAST-MODIFIED:20171013T062729Z
UID:15695-1512590400-1512595800@www.bayareaflashmob.com
SUMMARY:BollyBhangra Hip Hop Flash Mob class
DESCRIPTION:
URL:https://www.bayareaflashmob.com/event/bollybhangra-hip-hop-flash-mob-class-4/
LOCATION:Levy Studio\, 19 Heron St\, San Francisco\, CA\, United States
CATEGORIES:class
END:VEVENT
BEGIN:VEVENT
DTSTART;TZID=America/Los_Angeles:20171129T200000
DTEND;TZID=America/Los_Angeles:20171129T213000
DTSTAMP:20260423T192426
CREATED:20171013T060658Z
LAST-MODIFIED:20171013T060717Z
UID:15693-1511985600-1511991000@www.bayareaflashmob.com
SUMMARY:BollyBhangra Hip Hop Flash Mob
DESCRIPTION:Bolly
URL:https://www.bayareaflashmob.com/event/bollybhangra-hip-hop-flash-mob/
LOCATION:Levy Studio\, 19 Heron St\, San Francisco\, CA\, United States
CATEGORIES:class
END:VEVENT
BEGIN:VEVENT
DTSTART;VALUE=DATE:20171122
DTEND;VALUE=DATE:20171123
DTSTAMP:20260423T192426
CREATED:20171013T060448Z
LAST-MODIFIED:20171020T041623Z
UID:15690-1511308800-1511395199@www.bayareaflashmob.com
SUMMARY:Well Deserved Break
DESCRIPTION:Get some rest everyone!
URL:https://www.bayareaflashmob.com/event/well-deserved-break/
LOCATION:CA
CATEGORIES:class,flash mob,performance
END:VEVENT
BEGIN:VEVENT
DTSTART;TZID=America/Los_Angeles:20171115T200000
DTEND;TZID=America/Los_Angeles:20171115T213000
DTSTAMP:20260423T192426
CREATED:20171013T055351Z
LAST-MODIFIED:20171013T055530Z
UID:15686-1510776000-1510781400@www.bayareaflashmob.com
SUMMARY:BollyBhangra Hip Hop Flash Mob class
DESCRIPTION:
URL:https://www.bayareaflashmob.com/event/bollybhangra-hip-hop-flash-mob-class-3/
LOCATION:Levy Studio\, 19 Heron St\, San Francisco\, CA\, United States
CATEGORIES:class
END:VEVENT
BEGIN:VEVENT
DTSTART;TZID=America/Los_Angeles:20171108T200000
DTEND;TZID=America/Los_Angeles:20171108T213000
DTSTAMP:20260423T192426
CREATED:20171013T054128Z
LAST-MODIFIED:20171013T055110Z
UID:15681-1510171200-1510176600@www.bayareaflashmob.com
SUMMARY:BollyBhangra Hip Hop Flash Mob class
DESCRIPTION:
URL:https://www.bayareaflashmob.com/event/bollybhangra-hip-hop-flash-mob-class-2/
LOCATION:Levy Studio\, 19 Heron St\, San Francisco\, CA\, United States
CATEGORIES:class
END:VEVENT
BEGIN:VEVENT
DTSTART;TZID=America/Los_Angeles:20171025T200000
DTEND;TZID=America/Los_Angeles:20171025T220000
DTSTAMP:20260423T192426
CREATED:20171013T053219Z
LAST-MODIFIED:20171013T053219Z
UID:15677-1508961600-1508968800@www.bayareaflashmob.com
SUMMARY:Thriller class!
DESCRIPTION:
URL:https://www.bayareaflashmob.com/event/thriller-class-2/
LOCATION:Levy Studio\, 19 Heron St\, San Francisco\, CA\, United States
CATEGORIES:class
END:VEVENT
BEGIN:VEVENT
DTSTART;TZID=America/Los_Angeles:20171018T200000
DTEND;TZID=America/Los_Angeles:20171018T220000
DTSTAMP:20260423T192426
CREATED:20171013T052945Z
LAST-MODIFIED:20171013T052945Z
UID:15675-1508356800-1508364000@www.bayareaflashmob.com
SUMMARY:Thriller class
DESCRIPTION:
URL:https://www.bayareaflashmob.com/event/thriller-class/
LOCATION:Levy Studio\, 19 Heron St\, San Francisco\, CA\, United States
CATEGORIES:class
END:VEVENT
BEGIN:VEVENT
DTSTART;TZID=America/Los_Angeles:20171011T200000
DTEND;TZID=America/Los_Angeles:20171011T220000
DTSTAMP:20260423T192426
CREATED:20171011T043104Z
LAST-MODIFIED:20171011T043104Z
UID:15605-1507752000-1507759200@www.bayareaflashmob.com
SUMMARY:Rihanna Flash Mob class
DESCRIPTION:
URL:https://www.bayareaflashmob.com/event/rihanna-flash-mob-class-5/
LOCATION:Levy Studio\, 19 Heron St\, San Francisco\, CA\, United States
CATEGORIES:class
END:VEVENT
BEGIN:VEVENT
DTSTART;TZID=America/Los_Angeles:20171004T200000
DTEND;TZID=America/Los_Angeles:20171004T220000
DTSTAMP:20260423T192426
CREATED:20170826T081408Z
LAST-MODIFIED:20170826T081408Z
UID:15603-1507147200-1507154400@www.bayareaflashmob.com
SUMMARY:Rihanna Flash Mob class
DESCRIPTION:
URL:https://www.bayareaflashmob.com/event/rihanna-flash-mob-class-4/
LOCATION:Levy Studio\, 19 Heron St\, San Francisco\, CA\, United States
CATEGORIES:class
END:VEVENT
BEGIN:VEVENT
DTSTART;TZID=America/Los_Angeles:20170927T200000
DTEND;TZID=America/Los_Angeles:20170927T220000
DTSTAMP:20260423T192426
CREATED:20170826T081217Z
LAST-MODIFIED:20170826T081253Z
UID:15601-1506542400-1506549600@www.bayareaflashmob.com
SUMMARY:Rihanna Flash Mob class
DESCRIPTION:
URL:https://www.bayareaflashmob.com/event/rihanna-flash-mob-class-3/
LOCATION:Levy Studio\, 19 Heron St\, San Francisco\, CA\, United States
CATEGORIES:class
END:VEVENT
BEGIN:VEVENT
DTSTART;TZID=America/Los_Angeles:20170920T200000
DTEND;TZID=America/Los_Angeles:20170920T220000
DTSTAMP:20260423T192426
CREATED:20170826T080935Z
LAST-MODIFIED:20170826T081103Z
UID:15598-1505937600-1505944800@www.bayareaflashmob.com
SUMMARY:Rihanna Flash Mob class
DESCRIPTION:
URL:https://www.bayareaflashmob.com/event/rihanna-flash-mob-class-2/
LOCATION:Levy Studio\, 19 Heron St\, San Francisco\, CA\, United States
CATEGORIES:class
END:VEVENT
BEGIN:VEVENT
DTSTART;TZID=America/Los_Angeles:20170913T200000
DTEND;TZID=America/Los_Angeles:20170913T220000
DTSTAMP:20260423T192426
CREATED:20170826T080839Z
LAST-MODIFIED:20170826T080839Z
UID:15596-1505332800-1505340000@www.bayareaflashmob.com
SUMMARY:Rihanna Flash Mob class
DESCRIPTION:
URL:https://www.bayareaflashmob.com/event/rihanna-flash-mob-class/
LOCATION:Levy Studio\, 19 Heron St\, San Francisco\, CA\, United States
CATEGORIES:class
END:VEVENT
BEGIN:VEVENT
DTSTART;TZID=America/Los_Angeles:20170906T200000
DTEND;TZID=America/Los_Angeles:20170906T213000
DTSTAMP:20260423T192426
CREATED:20170530T033724Z
LAST-MODIFIED:20170625T181724Z
UID:15405-1504728000-1504733400@www.bayareaflashmob.com
SUMMARY:Beyoncé Flash Mob Class
DESCRIPTION:
URL:https://www.bayareaflashmob.com/event/beyonce-flash-mob-class-7/
LOCATION:Levy Studio\, 19 Heron St\, San Francisco\, CA\, United States
CATEGORIES:class
END:VEVENT
BEGIN:VEVENT
DTSTART;TZID=America/Los_Angeles:20170830T200000
DTEND;TZID=America/Los_Angeles:20170830T213000
DTSTAMP:20260423T192426
CREATED:20170826T080448Z
LAST-MODIFIED:20170826T080458Z
UID:15593-1504123200-1504128600@www.bayareaflashmob.com
SUMMARY:Beyoncé 2.0 Flash Mob class
DESCRIPTION:
URL:https://www.bayareaflashmob.com/event/beyonce-2-0-flash-mob-classes/
LOCATION:Levy Studio\, 19 Heron St\, San Francisco\, CA\, United States
CATEGORIES:class
END:VEVENT
BEGIN:VEVENT
DTSTART;TZID=America/Los_Angeles:20170823T080000
DTEND;TZID=America/Los_Angeles:20170823T170000
DTSTAMP:20260423T192426
CREATED:20170530T033146Z
LAST-MODIFIED:20170625T181505Z
UID:15401-1503475200-1503507600@www.bayareaflashmob.com
SUMMARY:Beyoncé Flash Mob Class
DESCRIPTION:
URL:https://www.bayareaflashmob.com/event/beyonce-flash-mob-class-6/
LOCATION:Levy Studio\, 19 Heron St\, San Francisco\, CA\, United States
CATEGORIES:class
END:VEVENT
BEGIN:VEVENT
DTSTART;TZID=America/Los_Angeles:20170816T200000
DTEND;TZID=America/Los_Angeles:20170816T213000
DTSTAMP:20260423T192426
CREATED:20170530T033006Z
LAST-MODIFIED:20170625T181555Z
UID:15397-1502913600-1502919000@www.bayareaflashmob.com
SUMMARY:Beyoncé Flash Mob Class
DESCRIPTION:
URL:https://www.bayareaflashmob.com/event/beyonce-flash-mob-class-5/
LOCATION:Levy Studio\, 19 Heron St\, San Francisco\, CA\, United States
CATEGORIES:class
END:VEVENT
BEGIN:VEVENT
DTSTART;TZID=America/Los_Angeles:20170809T200000
DTEND;TZID=America/Los_Angeles:20170809T213000
DTSTAMP:20260423T192426
CREATED:20170530T032936Z
LAST-MODIFIED:20170625T181901Z
UID:15398-1502308800-1502314200@www.bayareaflashmob.com
SUMMARY:Beyoncé Flash Mob Class
DESCRIPTION:
URL:https://www.bayareaflashmob.com/event/beyonce-flash-mob-class-4/
LOCATION:Levy Studio\, 19 Heron St\, San Francisco\, CA\, United States
CATEGORIES:class
END:VEVENT
BEGIN:VEVENT
DTSTART;TZID=America/Los_Angeles:20170802T200000
DTEND;TZID=America/Los_Angeles:20170802T213000
DTSTAMP:20260423T192426
CREATED:20170530T032647Z
LAST-MODIFIED:20170625T181649Z
UID:15394-1501704000-1501709400@www.bayareaflashmob.com
SUMMARY:Beyoncé Flash Mob Class
DESCRIPTION:
URL:https://www.bayareaflashmob.com/event/beyonce-flash-mob-class-2/
LOCATION:Levy Studio\, 19 Heron St\, San Francisco\, CA\, United States
CATEGORIES:class
END:VEVENT
BEGIN:VEVENT
DTSTART;TZID=America/Los_Angeles:20170726T200000
DTEND;TZID=America/Los_Angeles:20170726T213000
DTSTAMP:20260423T192426
CREATED:20170530T032635Z
LAST-MODIFIED:20170625T181948Z
UID:15393-1501099200-1501104600@www.bayareaflashmob.com
SUMMARY:Beyoncé Flash Mob Class
DESCRIPTION:
URL:https://www.bayareaflashmob.com/event/beyonce-flash-mob-class/
LOCATION:Levy Studio\, 19 Heron St\, San Francisco\, CA\, United States
CATEGORIES:class
END:VEVENT
BEGIN:VEVENT
DTSTART;TZID=America/Los_Angeles:20170719T200000
DTEND;TZID=America/Los_Angeles:20170719T213000
DTSTAMP:20260423T192426
CREATED:20170530T031051Z
LAST-MODIFIED:20170625T182028Z
UID:15389-1500494400-1500499800@www.bayareaflashmob.com
SUMMARY:Beyoncé Flash Mob Class
DESCRIPTION:
URL:https://www.bayareaflashmob.com/event/beyonce-flash-mob-class-3/
LOCATION:Levy Studio\, 19 Heron St\, San Francisco\, CA\, United States
CATEGORIES:class
END:VEVENT
BEGIN:VEVENT
DTSTART;TZID=America/Los_Angeles:20170712T200000
DTEND;TZID=America/Los_Angeles:20170712T213000
DTSTAMP:20260423T192426
CREATED:20170530T030839Z
LAST-MODIFIED:20170530T032000Z
UID:15387-1499889600-1499895000@www.bayareaflashmob.com
SUMMARY:Beyoncé Flash Mob Class
DESCRIPTION:
URL:https://www.bayareaflashmob.com/event/beyonce-flash-mob-class-2-2/
LOCATION:Levy Studio\, 19 Heron St\, San Francisco\, CA\, United States
CATEGORIES:class
END:VEVENT
BEGIN:VEVENT
DTSTART;TZID=America/Los_Angeles:20170709T113000
DTEND;TZID=America/Los_Angeles:20170709T160000
DTSTAMP:20260423T192426
CREATED:20170422T080259Z
LAST-MODIFIED:20170625T182217Z
UID:15193-1499599800-1499616000@www.bayareaflashmob.com
SUMMARY:Bruno Mars flash mob
DESCRIPTION:This is the time to showcase what we have learned in the past 2 months\,and sharing our love of dance to random\, unsuspecting passerbys (and our family\, friends\, and supporters) in San Francisco!
URL:https://www.bayareaflashmob.com/event/bruno-mars-flash-mob/
LOCATION:CA
CATEGORIES:class
END:VEVENT
BEGIN:VEVENT
DTSTART;TZID=America/Los_Angeles:20170705T200000
DTEND;TZID=America/Los_Angeles:20170705T213000
DTSTAMP:20260423T192426
CREATED:20170530T025759Z
LAST-MODIFIED:20170625T181803Z
UID:15383-1499284800-1499290200@www.bayareaflashmob.com
SUMMARY:Beyoncé Flash Mob Class
DESCRIPTION:
URL:https://www.bayareaflashmob.com/event/beyonce-flash-mob-class-1/
LOCATION:Levy Studio\, 19 Heron St\, San Francisco\, CA\, United States
CATEGORIES:class
END:VEVENT
BEGIN:VEVENT
DTSTART;TZID=America/Los_Angeles:20170621T200000
DTEND;TZID=America/Los_Angeles:20170621T213000
DTSTAMP:20260423T192426
CREATED:20170402T061745Z
LAST-MODIFIED:20170422T075626Z
UID:14629-1498075200-1498080600@www.bayareaflashmob.com
SUMMARY:Bruno Mars Medley class
DESCRIPTION:
URL:https://www.bayareaflashmob.com/event/bruno-mars-medley-class-8/
LOCATION:Levy Studio\, 19 Heron St\, San Francisco\, CA\, United States
CATEGORIES:class
END:VEVENT
BEGIN:VEVENT
DTSTART;TZID=America/Los_Angeles:20170614T200000
DTEND;TZID=America/Los_Angeles:20170614T213000
DTSTAMP:20260423T192426
CREATED:20170402T061651Z
LAST-MODIFIED:20170422T075725Z
UID:14627-1497470400-1497475800@www.bayareaflashmob.com
SUMMARY:Bruno Mars Medley class
DESCRIPTION:
URL:https://www.bayareaflashmob.com/event/bruno-mars-medley-class-7/
LOCATION:Levy Studio\, 19 Heron St\, San Francisco\, CA\, United States
CATEGORIES:class
END:VEVENT
BEGIN:VEVENT
DTSTART;TZID=America/Los_Angeles:20170607T200000
DTEND;TZID=America/Los_Angeles:20170607T213000
DTSTAMP:20260423T192426
CREATED:20170402T061509Z
LAST-MODIFIED:20170422T080059Z
UID:14625-1496865600-1496871000@www.bayareaflashmob.com
SUMMARY:Bruno Mars Medley class
DESCRIPTION:
URL:https://www.bayareaflashmob.com/event/bruno-mars-medley-class-6/
LOCATION:Levy Studio\, 19 Heron St\, San Francisco\, CA\, United States
CATEGORIES:class
END:VEVENT
BEGIN:VEVENT
DTSTART;TZID=America/Los_Angeles:20170531T200000
DTEND;TZID=America/Los_Angeles:20170531T213000
DTSTAMP:20260423T192426
CREATED:20170402T061431Z
LAST-MODIFIED:20170422T080031Z
UID:14623-1496260800-1496266200@www.bayareaflashmob.com
SUMMARY:Bruno Mars Medley class
DESCRIPTION:
URL:https://www.bayareaflashmob.com/event/bruno-mars-medley-class-5/
LOCATION:Levy Studio\, 19 Heron St\, San Francisco\, CA\, United States
CATEGORIES:class
END:VEVENT
BEGIN:VEVENT
DTSTART;TZID=America/Los_Angeles:20170524T200000
DTEND;TZID=America/Los_Angeles:20170524T213000
DTSTAMP:20260423T192426
CREATED:20170402T061329Z
LAST-MODIFIED:20170402T061329Z
UID:14621-1495656000-1495661400@www.bayareaflashmob.com
SUMMARY:Bruno Mars Medley event
DESCRIPTION:
URL:https://www.bayareaflashmob.com/event/bruno-mars-medley-event/
LOCATION:Levy Studio\, 19 Heron St\, San Francisco\, CA\, United States
CATEGORIES:class
END:VEVENT
BEGIN:VEVENT
DTSTART;TZID=America/Los_Angeles:20170517T200000
DTEND;TZID=America/Los_Angeles:20170517T213000
DTSTAMP:20260423T192426
CREATED:20170402T061240Z
LAST-MODIFIED:20170422T075932Z
UID:14619-1495051200-1495056600@www.bayareaflashmob.com
SUMMARY:Bruno Mars Medley class
DESCRIPTION:
URL:https://www.bayareaflashmob.com/event/bruno-mars-medley-class-4/
LOCATION:Levy Studio\, 19 Heron St\, San Francisco\, CA\, United States
CATEGORIES:class
END:VEVENT
END:VCALENDAR