BEGIN:VCALENDAR
VERSION:2.0
PRODID:-//Bay Area Flash Mob - ECPv6.15.1.1//NONSGML v1.0//EN
CALSCALE:GREGORIAN
METHOD:PUBLISH
X-WR-CALNAME:Bay Area Flash Mob
X-ORIGINAL-URL:https://www.bayareaflashmob.com
X-WR-CALDESC:Events for Bay Area Flash Mob
REFRESH-INTERVAL;VALUE=DURATION:PT1H
X-Robots-Tag:noindex
X-PUBLISHED-TTL:PT1H
BEGIN:VTIMEZONE
TZID:America/Los_Angeles
BEGIN:DAYLIGHT
TZOFFSETFROM:-0800
TZOFFSETTO:-0700
TZNAME:PDT
DTSTART:20170312T100000
END:DAYLIGHT
BEGIN:STANDARD
TZOFFSETFROM:-0700
TZOFFSETTO:-0800
TZNAME:PST
DTSTART:20171105T090000
END:STANDARD
END:VTIMEZONE
BEGIN:VEVENT
DTSTART;TZID=America/Los_Angeles:20170510T200000
DTEND;TZID=America/Los_Angeles:20170510T213000
DTSTAMP:20260423T231855
CREATED:20170402T061155Z
LAST-MODIFIED:20170422T075906Z
UID:14617-1494446400-1494451800@www.bayareaflashmob.com
SUMMARY:Bruno Mars Medley class
DESCRIPTION:
URL:https://www.bayareaflashmob.com/event/bruno-mars-medley-class-3/
LOCATION:Levy Studio\, 19 Heron St\, San Francisco\, CA\, United States
CATEGORIES:class
END:VEVENT
BEGIN:VEVENT
DTSTART;TZID=America/Los_Angeles:20170503T200000
DTEND;TZID=America/Los_Angeles:20170503T213000
DTSTAMP:20260423T231855
CREATED:20170402T061042Z
LAST-MODIFIED:20170422T075837Z
UID:14615-1493841600-1493847000@www.bayareaflashmob.com
SUMMARY:Bruno Mars Medley class
DESCRIPTION:
URL:https://www.bayareaflashmob.com/event/bruno-mars-medley-class-2/
LOCATION:Levy Studio\, 19 Heron St\, San Francisco\, CA\, United States
CATEGORIES:class
END:VEVENT
BEGIN:VEVENT
DTSTART;TZID=America/Los_Angeles:20170426T200000
DTEND;TZID=America/Los_Angeles:20170426T213000
DTSTAMP:20260423T231855
CREATED:20170402T060935Z
LAST-MODIFIED:20170422T075801Z
UID:14613-1493236800-1493242200@www.bayareaflashmob.com
SUMMARY:Bruno Mars Medley class
DESCRIPTION:
URL:https://www.bayareaflashmob.com/event/bruno-mars-medley-class/
LOCATION:Levy Studio\, 19 Heron St\, San Francisco\, CA\, United States
CATEGORIES:class
END:VEVENT
BEGIN:VEVENT
DTSTART;TZID=America/Los_Angeles:20170419T200000
DTEND;TZID=America/Los_Angeles:20170419T213000
DTSTAMP:20260423T231855
CREATED:20170324T061742Z
LAST-MODIFIED:20170324T062443Z
UID:14357-1492632000-1492637400@www.bayareaflashmob.com
SUMMARY:Class: Pop Diva Medley
DESCRIPTION:Pop Diva Medley \nClasses are held at \nLevy Studio\n19 Heron Street \nSan Francisco\, CA\nWednesdays 8:00 – 9:30 pm \nFebruary 8\, 2017 – April 19\, 2017 \nClasses are $8 \nIf you’re new\, you can fill out this waiver and code of conduct form and bring to class or fill one out when you sign in.  \n*There is a new policy at Levy Dance. They just finished a remodel\, which includes new floors (Yay!!). That means outside shoes are no longer allowed. You can wear dance shoes or sneakers that are used just for dance.* \nWe will be doing things a bit different this time – class times will only be 1.5 hours long and we will most likely film tutorial videos after class that consists of what was taught that night. \nHere’s what we’ll be teaching: \n“Don’t Cha” from The Pussycat Dolls which will be taught by Francesca Balagtas \n \n“Rock the Boat” by Aaliyah with Paul Renolis\n \n“Baby Boy” by Beyonce as taught by Maria L. Magallanes \n \n“Dirrty” by Christina Aguilera\, taught by Larry Gordon \n \nand we will end the Pop Diva Medley with Janet Jackson’s “All Nite” which will be taught by Rachel Calderon. \n \nFlash Mob performance day is tentatively scheduled April 23\, 2017\, please note this date could change. \n \nStay tuned for more!
URL:https://www.bayareaflashmob.com/event/class-pop-diva-medley-4/
LOCATION:Levy Studio\, 19 Heron St\, San Francisco\, CA\, United States
CATEGORIES:class
ATTACH;FMTTYPE=image/jpeg:https://www.bayareaflashmob.com/wp-content/uploads/2017/01/Pop-Diva-Medley-Cover-Photo.jpg
END:VEVENT
BEGIN:VEVENT
DTSTART;TZID=America/Los_Angeles:20170412T200000
DTEND;TZID=America/Los_Angeles:20170412T213000
DTSTAMP:20260423T231855
CREATED:20170324T061336Z
LAST-MODIFIED:20170324T062706Z
UID:14355-1492027200-1492032600@www.bayareaflashmob.com
SUMMARY:Class: Pop Diva Medley
DESCRIPTION:Pop Diva Medley \nClasses are held at \nLevy Studio\n19 Heron Street \nSan Francisco\, CA\nWednesdays 8:00 – 9:30 pm \nFebruary 8\, 2017 – April 19\, 2017 \nClasses are $8 \nIf you’re new\, you can fill out this waiver and code of conduct form and bring to class or fill one out when you sign in.  \n*There is a new policy at Levy Dance. They just finished a remodel\, which includes new floors (Yay!!). That means outside shoes are no longer allowed. You can wear dance shoes or sneakers that are used just for dance.* \nWe will be doing things a bit different this time – class times will only be 1.5 hours long and we will most likely film tutorial videos after class that consists of what was taught that night. \nHere’s what we’ll be teaching: \n“Don’t Cha” from The Pussycat Dolls which will be taught by Francesca Balagtas \n \n“Rock the Boat” by Aaliyah with Paul Renolis\n \n“Baby Boy” by Beyonce as taught by Maria L. Magallanes \n \n“Dirrty” by Christina Aguilera\, taught by Larry Gordon \n \nand we will end the Pop Diva Medley with Janet Jackson’s “All Nite” which will be taught by Rachel Calderon. \n \nFlash Mob performance day is tentatively scheduled April 23\, 2017\, please note this date could change. \n \nStay tuned for more!
URL:https://www.bayareaflashmob.com/event/class-pop-diva-medley-3/
LOCATION:Levy Studio\, 19 Heron St\, San Francisco\, CA\, United States
CATEGORIES:class
ATTACH;FMTTYPE=image/jpeg:https://www.bayareaflashmob.com/wp-content/uploads/2017/02/janet-jackson-all-nite-2.jpg
END:VEVENT
BEGIN:VEVENT
DTSTART;TZID=America/Los_Angeles:20170405T200000
DTEND;TZID=America/Los_Angeles:20170405T213000
DTSTAMP:20260423T231855
CREATED:20170324T061435Z
LAST-MODIFIED:20170324T062641Z
UID:14353-1491422400-1491427800@www.bayareaflashmob.com
SUMMARY:Class: Pop Diva Medley
DESCRIPTION:Pop Diva Medley \nClasses are held at \nLevy Studio\n19 Heron Street \nSan Francisco\, CA\nWednesdays 8:00 – 9:30 pm \nFebruary 8\, 2017 – April 19\, 2017 \nClasses are $8 \nIf you’re new\, you can fill out this waiver and code of conduct form and bring to class or fill one out when you sign in.  \n*There is a new policy at Levy Dance. They just finished a remodel\, which includes new floors (Yay!!). That means outside shoes are no longer allowed. You can wear dance shoes or sneakers that are used just for dance.* \nWe will be doing things a bit different this time – class times will only be 1.5 hours long and we will most likely film tutorial videos after class that consists of what was taught that night. \nHere’s what we’ll be teaching: \n“Don’t Cha” from The Pussycat Dolls which will be taught by Francesca Balagtas \n \n“Rock the Boat” by Aaliyah with Paul Renolis\n \n“Baby Boy” by Beyonce as taught by Maria L. Magallanes \n \n“Dirrty” by Christina Aguilera\, taught by Larry Gordon \n \nand we will end the Pop Diva Medley with Janet Jackson’s “All Nite” which will be taught by Rachel Calderon. \n \nFlash Mob performance day is tentatively scheduled April 23\, 2017\, please note this date could change. \n \nStay tuned for more!
URL:https://www.bayareaflashmob.com/event/class-pop-diva-medley-2/
LOCATION:Levy Studio\, 19 Heron St\, San Francisco\, CA\, United States
CATEGORIES:class
ATTACH;FMTTYPE=image/jpeg:https://www.bayareaflashmob.com/wp-content/uploads/2017/02/janet-jackson-all-nite-2.jpg
END:VEVENT
END:VCALENDAR