BEGIN:VCALENDAR
VERSION:2.0
PRODID:-//Bay Area Flash Mob - ECPv6.15.1.1//NONSGML v1.0//EN
CALSCALE:GREGORIAN
METHOD:PUBLISH
X-WR-CALNAME:Bay Area Flash Mob
X-ORIGINAL-URL:https://www.bayareaflashmob.com
X-WR-CALDESC:Events for Bay Area Flash Mob
REFRESH-INTERVAL;VALUE=DURATION:PT1H
X-Robots-Tag:noindex
X-PUBLISHED-TTL:PT1H
BEGIN:VTIMEZONE
TZID:America/Los_Angeles
BEGIN:DAYLIGHT
TZOFFSETFROM:-0800
TZOFFSETTO:-0700
TZNAME:PDT
DTSTART:20170312T100000
END:DAYLIGHT
BEGIN:STANDARD
TZOFFSETFROM:-0700
TZOFFSETTO:-0800
TZNAME:PST
DTSTART:20171105T090000
END:STANDARD
BEGIN:DAYLIGHT
TZOFFSETFROM:-0800
TZOFFSETTO:-0700
TZNAME:PDT
DTSTART:20180311T100000
END:DAYLIGHT
BEGIN:STANDARD
TZOFFSETFROM:-0700
TZOFFSETTO:-0800
TZNAME:PST
DTSTART:20181104T090000
END:STANDARD
END:VTIMEZONE
BEGIN:VEVENT
DTSTART;VALUE=DATE:20180728
DTEND;VALUE=DATE:20180729
DTSTAMP:20260423T141841
CREATED:20180601T074138Z
LAST-MODIFIED:20180601T074208Z
UID:16151-1532736000-1532822399@www.bayareaflashmob.com
SUMMARY:Missy 2 Flash Mob
DESCRIPTION:  \nFlash Mob Time!\n“Thank you! Oh thank you\, you all are so wonderful!”\nTime\, place TBA but still subject to change. \n \nmake funny GIFs like this at MakeaGif\n 
URL:https://www.bayareaflashmob.com/event/missy-2-flash-mob/
CATEGORIES:flash mob
END:VEVENT
BEGIN:VEVENT
DTSTART;VALUE=DATE:20180519
DTEND;VALUE=DATE:20180520
DTSTAMP:20260423T141841
CREATED:20180313T080235Z
LAST-MODIFIED:20180518T043939Z
UID:16073-1526688000-1526774399@www.bayareaflashmob.com
SUMMARY:New Edition Legacy Flash Mob DAY!
DESCRIPTION:SCHEDULE (SUBJECT TO CHANGE)\n#CupidSpan 1:00\n#FerryPlaza 1:30\nMarket St & Yerba Buena 2:10\n#Powell #cablecar turnaround 2:45 \n\n\n\n\n\n\n\n\n\n\n\n﻿ \nvia GIPHY
URL:https://www.bayareaflashmob.com/event/new-edition-legacy-flash-mob/
CATEGORIES:flash mob
END:VEVENT
BEGIN:VEVENT
DTSTART;VALUE=DATE:20180303
DTEND;VALUE=DATE:20180304
DTSTAMP:20260423T141841
CREATED:20180125T202826Z
LAST-MODIFIED:20180125T202826Z
UID:16000-1520035200-1520121599@www.bayareaflashmob.com
SUMMARY:J Lo Flash Mob
DESCRIPTION:It’s time to bring the joy of dance to the streets of San Francisco! Come by and say hello to our dancers and Petunia\, our amplifier. \nExact time and place TBA and always subject to change.
URL:https://www.bayareaflashmob.com/event/j-lo-flash-mob/
CATEGORIES:flash mob
END:VEVENT
BEGIN:VEVENT
DTSTART;VALUE=DATE:20171122
DTEND;VALUE=DATE:20171123
DTSTAMP:20260423T141841
CREATED:20171013T060448Z
LAST-MODIFIED:20171020T041623Z
UID:15690-1511308800-1511395199@www.bayareaflashmob.com
SUMMARY:Well Deserved Break
DESCRIPTION:Get some rest everyone!
URL:https://www.bayareaflashmob.com/event/well-deserved-break/
CATEGORIES:class,flash mob,performance
END:VEVENT
BEGIN:VEVENT
DTSTART;VALUE=DATE:20171014
DTEND;VALUE=DATE:20171015
DTSTAMP:20260423T141841
CREATED:20170826T081940Z
LAST-MODIFIED:20171013T204313Z
UID:15607-1507939200-1508025599@www.bayareaflashmob.com
SUMMARY:Rihanna Flash Mob Day
DESCRIPTION:This is the day when we descend onto SF’s streets with all our pink goodness and surprise unsuspecting passerbys with RiRi’s routine!\nInvite your friends and family!\n\nHere’s our schedule: \n1:00 pm – Cupid’s Arrow 1:30 – Ferry Plaza \n2:00 – Market and Yerba Buena\n3:00 – Castro and 17th\nThe only constant in life is change. Follow us on twitter and/or Instagram for more updates.
URL:https://www.bayareaflashmob.com/event/rihanna-flash-mob-day/
CATEGORIES:flash mob
END:VEVENT
BEGIN:VEVENT
DTSTART;VALUE=DATE:20171012
DTEND;VALUE=DATE:20171013
DTSTAMP:20260423T141841
CREATED:20171013T064523Z
LAST-MODIFIED:20171013T064523Z
UID:15704-1507766400-1507852799@www.bayareaflashmob.com
SUMMARY:BollyBhangra Hip Hop Flash Mob day.... maybe
DESCRIPTION:Pending indoor location availability\, we’ll be able to do this.
URL:https://www.bayareaflashmob.com/event/bollybhangra-hip-hop-flash-mob-day-maybe/
CATEGORIES:flash mob
END:VEVENT
BEGIN:VEVENT
DTSTART;VALUE=DATE:20170910
DTEND;VALUE=DATE:20170911
DTSTAMP:20260423T141841
CREATED:20170530T033433Z
LAST-MODIFIED:20170530T033433Z
UID:15402-1505001600-1505087999@www.bayareaflashmob.com
SUMMARY:Beyoncé Flash Mob
DESCRIPTION:This is the time to show off what you’ve learned to your family\, friends and unsuspecting passerbys in San Francisco! 
URL:https://www.bayareaflashmob.com/event/beyonce-flash-mob/
CATEGORIES:flash mob
END:VEVENT
BEGIN:VEVENT
DTSTART;TZID=America/Los_Angeles:20170721T190000
DTEND;TZID=America/Los_Angeles:20170721T200000
DTSTAMP:20260423T141841
CREATED:20170719T171151Z
LAST-MODIFIED:20170719T171151Z
UID:15511-1500663600-1500667200@www.bayareaflashmob.com
SUMMARY:Pacha's Pajamas
DESCRIPTION:We will be performing a special version of one of our routines and morph ourselves into Pacha‘s friends of Pacha’s Pajamas. The performance will be part of Swan’s Market Centennial Anniversary that officially starts at 4:00 pm to 8:00 pm. Click on the links above or here at their Facebook invitation to see more information. \nCome join us! We are all connected! \n 
URL:https://www.bayareaflashmob.com/event/pachas-pajamas/
LOCATION:Swan’s Market\, 538 9th St\, Oakland\, 94607\, United States
CATEGORIES:flash mob,performance
END:VEVENT
BEGIN:VEVENT
DTSTART;TZID=America/Los_Angeles:20170423T120000
DTEND;TZID=America/Los_Angeles:20170423T160000
DTSTAMP:20260423T141841
CREATED:20170324T062238Z
LAST-MODIFIED:20170324T062348Z
UID:14359-1492948800-1492963200@www.bayareaflashmob.com
SUMMARY:Pop Diva Medley Flash Mob!
DESCRIPTION:This is the time to showcase what we have learned in the past 2 months\,and sharing our love of dance to random\, unsuspecting pedestrians (and our family\, friends\, and supporters) in San Francisco!
URL:https://www.bayareaflashmob.com/event/pop-diva-medley-flash-mob/
CATEGORIES:flash mob
ATTACH;FMTTYPE=image/jpeg:https://www.bayareaflashmob.com/wp-content/uploads/2017/03/BAFM-Movie-Medley-7.24.16-photo-by-Dan-Gerstein-12.jpg
END:VEVENT
END:VCALENDAR