BEGIN:VCALENDAR
VERSION:2.0
PRODID:-//Bay Area Flash Mob - ECPv6.15.1.1//NONSGML v1.0//EN
CALSCALE:GREGORIAN
METHOD:PUBLISH
X-WR-CALNAME:Bay Area Flash Mob
X-ORIGINAL-URL:https://www.bayareaflashmob.com
X-WR-CALDESC:Events for Bay Area Flash Mob
REFRESH-INTERVAL;VALUE=DURATION:PT1H
X-Robots-Tag:noindex
X-PUBLISHED-TTL:PT1H
BEGIN:VTIMEZONE
TZID:America/Los_Angeles
BEGIN:DAYLIGHT
TZOFFSETFROM:-0800
TZOFFSETTO:-0700
TZNAME:PDT
DTSTART:20170312T100000
END:DAYLIGHT
BEGIN:STANDARD
TZOFFSETFROM:-0700
TZOFFSETTO:-0800
TZNAME:PST
DTSTART:20171105T090000
END:STANDARD
BEGIN:DAYLIGHT
TZOFFSETFROM:-0800
TZOFFSETTO:-0700
TZNAME:PDT
DTSTART:20180311T100000
END:DAYLIGHT
BEGIN:STANDARD
TZOFFSETFROM:-0700
TZOFFSETTO:-0800
TZNAME:PST
DTSTART:20181104T090000
END:STANDARD
BEGIN:DAYLIGHT
TZOFFSETFROM:-0800
TZOFFSETTO:-0700
TZNAME:PDT
DTSTART:20190310T100000
END:DAYLIGHT
BEGIN:STANDARD
TZOFFSETFROM:-0700
TZOFFSETTO:-0800
TZNAME:PST
DTSTART:20191103T090000
END:STANDARD
END:VTIMEZONE
BEGIN:VEVENT
DTSTART;TZID=America/Los_Angeles:20190202T190000
DTEND;TZID=America/Los_Angeles:20190203T020000
DTSTAMP:20260423T135011
CREATED:20190125T000102Z
LAST-MODIFIED:20190130T073025Z
UID:16386-1549134000-1549159200@www.bayareaflashmob.com
SUMMARY:Night of Ideas
DESCRIPTION:Free event\, but you must register through Eventbrite
URL:https://www.bayareaflashmob.com/event/night-of-ideas/
CATEGORIES:performance
END:VEVENT
BEGIN:VEVENT
DTSTART;TZID=America/Los_Angeles:20181007T130000
DTEND;TZID=America/Los_Angeles:20181007T170000
DTSTAMP:20260423T135011
CREATED:20180924T083642Z
LAST-MODIFIED:20180924T083642Z
UID:16327-1538917200-1538931600@www.bayareaflashmob.com
SUMMARY:Britney vs Christina\, Castro Street Fair\, Main Stage
DESCRIPTION:
URL:https://www.bayareaflashmob.com/event/britney-vs-christina-castro-street-fair-main-stage/
CATEGORIES:performance
END:VEVENT
BEGIN:VEVENT
DTSTART;TZID=America/Los_Angeles:20180203T104500
DTEND;TZID=America/Los_Angeles:20180203T120000
DTSTAMP:20260423T135011
CREATED:20180125T202130Z
LAST-MODIFIED:20180125T202159Z
UID:15998-1517654700-1517659200@www.bayareaflashmob.com
SUMMARY:Flora Springs Winery's 2015 Trilogy Release Party at The Estate! Sold Out!
DESCRIPTION:We are honored and pleased to perform at this event\, celebrating Flora Springs Winery’s 2015 Trilogy Release Party at the Estate! Click here for more information!
URL:https://www.bayareaflashmob.com/event/flora-springs-winerys-2015-trilogy-release-party-at-the-estate-sold-out/
CATEGORIES:performance
END:VEVENT
BEGIN:VEVENT
DTSTART;TZID=America/Los_Angeles:20180127T190000
DTEND;TZID=America/Los_Angeles:20180127T210000
DTSTAMP:20260423T135011
CREATED:20180107T043427Z
LAST-MODIFIED:20180107T043427Z
UID:15963-1517079600-1517086800@www.bayareaflashmob.com
SUMMARY:BollyBhangra Hip Hop at Levy Salon
DESCRIPTION:
URL:https://www.bayareaflashmob.com/event/bollybhangra-hip-hop-at-levy-salon/
LOCATION:Levy Studio\, 19 Heron St\, San Francisco\, CA\, United States
CATEGORIES:performance
END:VEVENT
BEGIN:VEVENT
DTSTART;TZID=America/Los_Angeles:20180107T120000
DTEND;TZID=America/Los_Angeles:20180107T130000
DTSTAMP:20260423T135011
CREATED:20180107T043245Z
LAST-MODIFIED:20180107T043813Z
UID:15960-1515326400-1515330000@www.bayareaflashmob.com
SUMMARY:BollyBhangra Hip Hop at Asian Art Museum
DESCRIPTION:Asian Art Museum:\n200 Larkin St\, San Francisco\, CA 94102\nEvent
URL:https://www.bayareaflashmob.com/event/bollybhangra-hip-hop-at-asian-art-museum/
LOCATION:Asian Art Museum\, 200 Larkin St\, San Francisco\, CA
CATEGORIES:performance
END:VEVENT
BEGIN:VEVENT
DTSTART;TZID=America/Los_Angeles:20171215T220000
DTEND;TZID=America/Los_Angeles:20171216T020000
DTSTAMP:20260423T135011
CREATED:20171211T033722Z
LAST-MODIFIED:20171211T074833Z
UID:15802-1513375200-1513389600@www.bayareaflashmob.com
SUMMARY:Sexitude PM
DESCRIPTION:We will be performing our BollyBhangra Hip Hop routine for Sexitude PM at SF Oasis\, 298 11th St.\, SF \nSexitude PM – a shameless dance party hosted by D’Arcy Drollinger. DJ Homebrew on the decks. Special appearances by Black Benetar\, Linty and Bay Area Flash Mob. 80’s workout attire\, animal print\, spandex & leg warmers…crop tops\, tube socks & cut-offs…glitter…all encouraged. Werk a look. Bust a move. Be fabulous! $5 \n 
URL:https://www.bayareaflashmob.com/event/sexitude-pm/
CATEGORIES:performance
ATTACH;FMTTYPE=image/jpeg:https://www.bayareaflashmob.com/wp-content/uploads/2017/12/23915881_1566416703424074_8700058739544373877_n.jpg
END:VEVENT
BEGIN:VEVENT
DTSTART;TZID=America/Los_Angeles:20171209T190000
DTEND;TZID=America/Los_Angeles:20171209T210000
DTSTAMP:20260423T135011
CREATED:20171013T064255Z
LAST-MODIFIED:20171118T044407Z
UID:15701-1512846000-1512853200@www.bayareaflashmob.com
SUMMARY:BollyBhangra Hip Hop Performance
DESCRIPTION:  \nFor tickets & more information\, click on the image below: \n \n 
URL:https://www.bayareaflashmob.com/event/bollybhangra-hip-hop-performance/
CATEGORIES:performance
END:VEVENT
BEGIN:VEVENT
DTSTART;VALUE=DATE:20171122
DTEND;VALUE=DATE:20171123
DTSTAMP:20260423T135011
CREATED:20171013T060448Z
LAST-MODIFIED:20171020T041623Z
UID:15690-1511308800-1511395199@www.bayareaflashmob.com
SUMMARY:Well Deserved Break
DESCRIPTION:Get some rest everyone!
URL:https://www.bayareaflashmob.com/event/well-deserved-break/
CATEGORIES:class,flash mob,performance
END:VEVENT
BEGIN:VEVENT
DTSTART;TZID=America/Los_Angeles:20170721T190000
DTEND;TZID=America/Los_Angeles:20170721T200000
DTSTAMP:20260423T135011
CREATED:20170719T171151Z
LAST-MODIFIED:20170719T171151Z
UID:15511-1500663600-1500667200@www.bayareaflashmob.com
SUMMARY:Pacha's Pajamas
DESCRIPTION:We will be performing a special version of one of our routines and morph ourselves into Pacha‘s friends of Pacha’s Pajamas. The performance will be part of Swan’s Market Centennial Anniversary that officially starts at 4:00 pm to 8:00 pm. Click on the links above or here at their Facebook invitation to see more information. \nCome join us! We are all connected! \n 
URL:https://www.bayareaflashmob.com/event/pachas-pajamas/
LOCATION:Swan’s Market\, 538 9th St\, Oakland\, 94607\, United States
CATEGORIES:flash mob,performance
END:VEVENT
BEGIN:VEVENT
DTSTART;TZID=America/Los_Angeles:20170527T230000
DTEND;TZID=America/Los_Angeles:20170527T230000
DTSTAMP:20260423T135011
CREATED:20170522T010456Z
LAST-MODIFIED:20170530T040611Z
UID:15315-1495926000-1495926000@www.bayareaflashmob.com
SUMMARY:Britney mashup at Bootie SF
DESCRIPTION:  \nThis coming Saturday\, we will close out the Monster Show at Bootie SF with our Britney routine from years ago. Cash Monet will be our fabulous drag queen. Come out and see us! \n_________________________________________________________ \nJust like Britney has done repeatedly over the years\, this routine also makes a comeback! It’s Britney Bitch! Over 4 years ago this routine was taught by James Arthur M. and Leah Ferrer. Thanks to Francesca Balagtas who led only two rehearsals\, and joined by the fabulous Cash Monet\, the performance was amazing and a lot of fun! Congratulations to our committed dancers who performed with enthusiasm and a lot of heart: Francesca Balagtas\, Monica Chin-Perez\, Leah Ferrer\, Janine Kagle and Cash Monet To see more images\, click here \n\n		\n		\n			\n				\n			\n			\n				\n			\n			\n				\n			\n			\n				\n			\n		\n\n  \nAnd a video of our performance!
URL:https://www.bayareaflashmob.com/event/britney-mashup-at-bootie-sf/
LOCATION:Bootie SF/ DNA Lounge\, 375 11th St\, San Francisco\, 94103\, United States
CATEGORIES:performance
END:VEVENT
END:VCALENDAR